BEGIN:VCALENDAR
VERSION:2.0
PRODID:-//Feed Store, Pet Supplies, Vet Clinic &amp; Dog Grooming in Kent, WA - ECPv5.16.3.1//NONSGML v1.0//EN
CALSCALE:GREGORIAN
METHOD:PUBLISH
X-WR-CALNAME:Feed Store, Pet Supplies, Vet Clinic &amp; Dog Grooming in Kent, WA
X-ORIGINAL-URL:https://legacy.reberranch.com
X-WR-CALDESC:Events for Feed Store, Pet Supplies, Vet Clinic &amp; Dog Grooming in Kent, WA
REFRESH-INTERVAL;VALUE=DURATION:PT1H
X-Robots-Tag:noindex
X-PUBLISHED-TTL:PT1H
BEGIN:VTIMEZONE
TZID:UTC
BEGIN:STANDARD
TZOFFSETFROM:+0000
TZOFFSETTO:+0000
TZNAME:UTC
DTSTART:20240101T000000
END:STANDARD
END:VTIMEZONE
BEGIN:VEVENT
DTSTART;VALUE=DATE:20240601
DTEND;VALUE=DATE:20240602
DTSTAMP:20260421T152901
CREATED:20240224T221150Z
LAST-MODIFIED:20240411T221452Z
UID:52410-1717200000-1717286399@legacy.reberranch.com
SUMMARY:PawFest at Kent Station
DESCRIPTION:Information to be released
URL:https://legacy.reberranch.com/event/pet-central-tent-adoptions/
END:VEVENT
BEGIN:VEVENT
DTSTART;VALUE=DATE:20240615
DTEND;VALUE=DATE:20240616
DTSTAMP:20260421T152901
CREATED:20240224T221410Z
LAST-MODIFIED:20240224T221410Z
UID:52412-1718409600-1718495999@legacy.reberranch.com
SUMMARY:Customer Appreciation
DESCRIPTION:Information to be released
URL:https://legacy.reberranch.com/event/customer-appreciation/
END:VEVENT
END:VCALENDAR