BEGIN:VCALENDAR
VERSION:2.0
PRODID:-//Feed Store, Pet Supplies, Vet Clinic &amp; Dog Grooming in Kent, WA - ECPv5.16.3.1//NONSGML v1.0//EN
CALSCALE:GREGORIAN
METHOD:PUBLISH
X-WR-CALNAME:Feed Store, Pet Supplies, Vet Clinic &amp; Dog Grooming in Kent, WA
X-ORIGINAL-URL:https://legacy.reberranch.com
X-WR-CALDESC:Events for Feed Store, Pet Supplies, Vet Clinic &amp; Dog Grooming in Kent, WA
REFRESH-INTERVAL;VALUE=DURATION:PT1H
X-Robots-Tag:noindex
X-PUBLISHED-TTL:PT1H
BEGIN:VTIMEZONE
TZID:UTC
BEGIN:STANDARD
TZOFFSETFROM:+0000
TZOFFSETTO:+0000
TZNAME:UTC
DTSTART:20240101T000000
END:STANDARD
END:VTIMEZONE
BEGIN:VEVENT
DTSTART;VALUE=DATE:20240223
DTEND;VALUE=DATE:20240507
DTSTAMP:20260421T210541
CREATED:20240129T211510Z
LAST-MODIFIED:20240412T224039Z
UID:52353-1708646400-1715039999@legacy.reberranch.com
SUMMARY:Spring Chicks
DESCRIPTION:
URL:https://legacy.reberranch.com/event/spring-chicks-2/
END:VEVENT
BEGIN:VEVENT
DTSTART;TZID=UTC:20240309T100000
DTEND;TZID=UTC:20240309T113000
DTSTAMP:20260421T210541
CREATED:20240220T013942Z
LAST-MODIFIED:20240224T214916Z
UID:52375-1709978400-1709983800@legacy.reberranch.com
SUMMARY:FREE Raising Chicks Seminar with Purina
DESCRIPTION:Join us March 9th at 10 AM for our Spring Chick Seminar\, hosted by Purina’s Rick Boyer! Learn about starting your flock and raising chicks this spring! While geared towards beginners\, we welcome all levels of expertise to join and ask questions or share their knowledge!  The seminar will be hosted outside in our warehouse. Please dress accordingly! There will also be a special coupon and raffle for attendees. Food and drink will be provided.  \nPlease sign up in advance!  \nChick list available here.
URL:https://legacy.reberranch.com/event/free-raising-chicks-seminar-with-purina/
END:VEVENT
BEGIN:VEVENT
DTSTART;TZID=UTC:20240323T103000
DTEND;TZID=UTC:20240323T120000
DTSTAMP:20260421T210541
CREATED:20240224T215651Z
LAST-MODIFIED:20240224T215651Z
UID:52398-1711189800-1711195200@legacy.reberranch.com
SUMMARY:Easter Egg Hunts
DESCRIPTION:Join us for our annual Egg Hunt Eggstravaganza Saturday\, March 23rd. \nThere will be three different age groups for kids (0 – 4 years old\, 5 – 7 years old\, 8-11 years) as well as a treat hunt just for dogs! Check-in will begin at 10AM. The youngest group will start their hunt first at 10:30AM. After they are done we will continue with the next two age groups and the final hunt of the day will be for the dogs. \nPlease be sure to bring a bag or basket to collect your eggs in! Event is held rain or shine. \nThis time of year\, the field is typically wet and muddy. We would suggest all those attending wear boots or shoes they don’t mind getting dirty. \nPlease REGISTER IN ADVANCE! 
URL:https://legacy.reberranch.com/event/easter-egg-hunts/
LOCATION:Reber Ranch\, 28606 132nd Ave SE\, Kent\, WA\, 98042
END:VEVENT
BEGIN:VEVENT
DTSTART;VALUE=DATE:20240329
DTEND;VALUE=DATE:20240501
DTSTAMP:20260421T210541
CREATED:20240224T220105Z
LAST-MODIFIED:20240329T071134Z
UID:52405-1711670400-1714521599@legacy.reberranch.com
SUMMARY:Coupon Book Sale
DESCRIPTION:
URL:https://legacy.reberranch.com/event/coupon-book-sale/
END:VEVENT
END:VCALENDAR