BEGIN:VCALENDAR
VERSION:2.0
PRODID:-//Feed Store, Pet Supplies, Vet Clinic &amp; Dog Grooming in Kent, WA - ECPv5.16.3.1//NONSGML v1.0//EN
CALSCALE:GREGORIAN
METHOD:PUBLISH
X-ORIGINAL-URL:https://legacy.reberranch.com
X-WR-CALDESC:Events for Feed Store, Pet Supplies, Vet Clinic &amp; Dog Grooming in Kent, WA
REFRESH-INTERVAL;VALUE=DURATION:PT1H
X-Robots-Tag:noindex
X-PUBLISHED-TTL:PT1H
BEGIN:VTIMEZONE
TZID:UTC
BEGIN:STANDARD
TZOFFSETFROM:+0000
TZOFFSETTO:+0000
TZNAME:UTC
DTSTART:20230101T000000
END:STANDARD
END:VTIMEZONE
BEGIN:VEVENT
DTSTART;TZID=UTC:20231021T103000
DTEND;TZID=UTC:20231021T123000
DTSTAMP:20260422T050013
CREATED:20231007T002853Z
LAST-MODIFIED:20231007T002853Z
UID:52262-1697884200-1697891400@legacy.reberranch.com
SUMMARY:Howl & Prowl 2023
DESCRIPTION:It’s time! Join us for our annual Howl & Prowl on Saturday\, October 21st at 10:30 AM. Dress your pets up in their best costume to parade our store and compete for prizes with our special guest vendor judges! All species welcome! We’ve welcomed dogs\, cats\, rabbits\, chickens\, and llamas alike to past years contests! Humans are welcome to – and even encouraged to – dress up too!\n\nCheck-ins begin at 10:30 – the parade will begin about 11AM.\n\nCategories are:\nBest Overall Costume\n2nd Runner Up Overall\nBest Group Costume\nFunniest Costume\nCutest Costume\n\nThere will be goodies and a special sale!\n\nPlease pre-register at the link to make the day of smoother!
URL:https://legacy.reberranch.com/event/howl-and-prowl-2/
END:VEVENT
END:VCALENDAR