BEGIN:VCALENDAR
VERSION:2.0
PRODID:-//Feed Store, Pet Supplies, Vet Clinic &amp; Dog Grooming in Kent, WA - ECPv5.16.3.1//NONSGML v1.0//EN
CALSCALE:GREGORIAN
METHOD:PUBLISH
X-WR-CALNAME:Feed Store, Pet Supplies, Vet Clinic &amp; Dog Grooming in Kent, WA
X-ORIGINAL-URL:https://legacy.reberranch.com
X-WR-CALDESC:Events for Feed Store, Pet Supplies, Vet Clinic &amp; Dog Grooming in Kent, WA
REFRESH-INTERVAL;VALUE=DURATION:PT1H
X-Robots-Tag:noindex
X-PUBLISHED-TTL:PT1H
BEGIN:VTIMEZONE
TZID:UTC
BEGIN:STANDARD
TZOFFSETFROM:+0000
TZOFFSETTO:+0000
TZNAME:UTC
DTSTART:20220101T000000
END:STANDARD
END:VTIMEZONE
BEGIN:VEVENT
DTSTART;TZID=UTC:20221008T100000
DTEND;TZID=UTC:20221008T110000
DTSTAMP:20260423T033611
CREATED:20220929T074212Z
LAST-MODIFIED:20220929T081704Z
UID:51805-1665223200-1665226800@legacy.reberranch.com
SUMMARY:The Power of Supplements Seminar
DESCRIPTION:
URL:https://legacy.reberranch.com/event/the-power-of-supplements-seminar/
END:VEVENT
BEGIN:VEVENT
DTSTART;TZID=UTC:20221022T103000
DTEND;TZID=UTC:20221022T120000
DTSTAMP:20260423T033611
CREATED:20220308T032142Z
LAST-MODIFIED:20221012T055514Z
UID:51048-1666434600-1666440000@legacy.reberranch.com
SUMMARY:Howl & Prowl
DESCRIPTION:Sign Up Here
URL:https://legacy.reberranch.com/event/howl-and-prowl/
END:VEVENT
END:VCALENDAR