BEGIN:VCALENDAR
VERSION:2.0
PRODID:-//Feed Store, Pet Supplies, Vet Clinic &amp; Dog Grooming in Kent, WA - ECPv5.16.3.1//NONSGML v1.0//EN
CALSCALE:GREGORIAN
METHOD:PUBLISH
X-WR-CALNAME:Feed Store, Pet Supplies, Vet Clinic &amp; Dog Grooming in Kent, WA
X-ORIGINAL-URL:https://legacy.reberranch.com
X-WR-CALDESC:Events for Feed Store, Pet Supplies, Vet Clinic &amp; Dog Grooming in Kent, WA
REFRESH-INTERVAL;VALUE=DURATION:PT1H
X-Robots-Tag:noindex
X-PUBLISHED-TTL:PT1H
BEGIN:VTIMEZONE
TZID:UTC
BEGIN:STANDARD
TZOFFSETFROM:+0000
TZOFFSETTO:+0000
TZNAME:UTC
DTSTART:20220101T000000
END:STANDARD
END:VTIMEZONE
BEGIN:VEVENT
DTSTART;VALUE=DATE:20220201
DTEND;VALUE=DATE:20220301
DTSTAMP:20260423T164457
CREATED:20220208T020049Z
LAST-MODIFIED:20220208T020049Z
UID:51017-1643673600-1646092799@legacy.reberranch.com
SUMMARY:February Sales
DESCRIPTION:Check out our month long sales! Visit shop.legacy.reberranch.com to shop online.
URL:https://legacy.reberranch.com/event/february-sales/
END:VEVENT
BEGIN:VEVENT
DTSTART;TZID=UTC:20220226T100000
DTEND;TZID=UTC:20220226T120000
DTSTAMP:20260423T164457
CREATED:20220129T055257Z
LAST-MODIFIED:20220129T055257Z
UID:51004-1645869600-1645876800@legacy.reberranch.com
SUMMARY:Backyard Bird Seminar
DESCRIPTION:Join Featherhaven for a Spring Backyard Seminar! More details and sign up info to come!
URL:https://legacy.reberranch.com/event/backyard-bird-seminar/
END:VEVENT
END:VCALENDAR