BEGIN:VCALENDAR
VERSION:2.0
PRODID:-//Feed Store, Pet Supplies, Vet Clinic &amp; Dog Grooming in Kent, WA - ECPv5.16.3.1//NONSGML v1.0//EN
CALSCALE:GREGORIAN
METHOD:PUBLISH
X-WR-CALNAME:Feed Store, Pet Supplies, Vet Clinic &amp; Dog Grooming in Kent, WA
X-ORIGINAL-URL:https://legacy.reberranch.com
X-WR-CALDESC:Events for Feed Store, Pet Supplies, Vet Clinic &amp; Dog Grooming in Kent, WA
REFRESH-INTERVAL;VALUE=DURATION:PT1H
X-Robots-Tag:noindex
X-PUBLISHED-TTL:PT1H
BEGIN:VTIMEZONE
TZID:UTC
BEGIN:STANDARD
TZOFFSETFROM:+0000
TZOFFSETTO:+0000
TZNAME:UTC
DTSTART:20210101T000000
END:STANDARD
END:VTIMEZONE
BEGIN:VEVENT
DTSTART;TZID=UTC:20211002T100000
DTEND;TZID=UTC:20211002T120000
DTSTAMP:20260424T010019
CREATED:20210921T042847Z
LAST-MODIFIED:20210921T043122Z
UID:50792-1633168800-1633176000@legacy.reberranch.com
SUMMARY:Fall Backyard Bird Seminar
DESCRIPTION:Please join Reber Ranch and Featherhaven Native Songbird Rehabilitation for a Backyard Bird Seminar on October 2nd at 10 am. The seminar will focus on “Winterizing One’s Backyard: Birds in Winter.”\n\nThere will also be a special sale and coupon if you attend! If you register beforehand\, you’ll be entered to win a $50 Reber Ranch gift card (must be present at the seminar to win).\n\n\nThe seminar will be hosted in our barn\, so please dress accordingly\, we will also have socially distant seating and masking is highly recommended.\nSign up here:\nhttps://lp.constantcontactpages.com/…/fall21birdseminar
URL:https://legacy.reberranch.com/event/fall-backyard-bird-seminar/
END:VEVENT
BEGIN:VEVENT
DTSTART;TZID=UTC:20211023T100000
DTEND;TZID=UTC:20211023T120000
DTSTAMP:20260424T010019
CREATED:20211012T053649Z
LAST-MODIFIED:20211012T053649Z
UID:50848-1634983200-1634990400@legacy.reberranch.com
SUMMARY:Howl 'n' Prowl
DESCRIPTION:It’s back! The 2021 Howl and Prowl is Saturday\, October 23rd from 10 AM- 12PM. Check-in begins at 10 AM and the parade begins at 11 AM. Dress your pets up in their best costume and come compete for prizes with vendor judges!\nCategories are:\nBest Overall Costume\n1st Runner Up Costume\n2nd Runner Up Costume\nBest Group Costume\nCutest Costume \nThere will also be samples and a special sale. This year\, to keep everyone safe – we will still host inside\, but limit the registration to 100 groups. Masks required.\nMake sure you register early to make the day-of process much smoother! Register HERE!
URL:https://legacy.reberranch.com/event/howl-n-prowl/
END:VEVENT
END:VCALENDAR