BEGIN:VCALENDAR
VERSION:2.0
PRODID:-//Feed Store, Pet Supplies, Vet Clinic &amp; Dog Grooming in Kent, WA - ECPv5.16.3.1//NONSGML v1.0//EN
CALSCALE:GREGORIAN
METHOD:PUBLISH
X-ORIGINAL-URL:https://legacy.reberranch.com
X-WR-CALDESC:Events for Feed Store, Pet Supplies, Vet Clinic &amp; Dog Grooming in Kent, WA
REFRESH-INTERVAL;VALUE=DURATION:PT1H
X-Robots-Tag:noindex
X-PUBLISHED-TTL:PT1H
BEGIN:VTIMEZONE
TZID:UTC
BEGIN:STANDARD
TZOFFSETFROM:+0000
TZOFFSETTO:+0000
TZNAME:UTC
DTSTART:20240101T000000
END:STANDARD
END:VTIMEZONE
BEGIN:VEVENT
DTSTART;TZID=UTC:20240824T100000
DTEND;TZID=UTC:20240824T150000
DTSTAMP:20260421T132925
CREATED:20240411T221849Z
LAST-MODIFIED:20240823T204654Z
UID:52694-1724493600-1724511600@legacy.reberranch.com
SUMMARY:Huge 40th Anniversary Celebration
DESCRIPTION:Rain or shine\, the festivities go on!  Our 40th Anniversary Celebration is TOMORROW from 10-3! Everything is COVERED! We are hard at work getting everything ready for the fun! Things to know: \n\nAll EVENT parking is behind A Barn. If you’re coming for the event\, please turn left when you arrive! Please do not park in front of the store. You will have the option to take the hay ride tractor\, which will make a stop along the track by the parking lot\, and again at the back side of the event. \n\n\n\nFor those with VET & GROOMING appointments\, as well as those who just need to run in and shop\, the row of parking in front of the dog park will be reserved for you! \n\n\n\nHAY & FEED customers\, please take note that LOADING is not in the usual place. HAY load out will be sent down to our D Barn\, and FEED load out will be just past the covered loading area\, you will see the side door to the warehouse open. \n\n\n\nCaricatures\, pony rides & petting zoo are SATURDAY ONLY! These will not be here Sunday! Pony Rides will be ending at 2pm. \n\n\n\nWe have several food trucks on SATURDAY ONLY\, that will be in the side parking lot. You will be welcome to eat on the back side of the store! \n\n\n\nThe straw maze will be in the covered arena\, with some other kids activities out back. \n\n\n\nAll our vendors and dog adoption groups (cats will be located inside the store) will be in the covered hay area. \n\n\n\nKent Police will be here as well with an opportunity to check out the patrol car\, meet K9 Atena & her handler Officer Robinson\, and potentially see her do some demos! \n\n\n\nBe sure to stop by our booth up front for swag\, samples\, and raffle entry! We look forward to seeing everyone!
URL:https://legacy.reberranch.com/event/huge-40th-anniversary-celebration/
END:VEVENT
END:VCALENDAR