BEGIN:VCALENDAR
VERSION:2.0
PRODID:-//Feed Store, Pet Supplies, Vet Clinic &amp; Dog Grooming in Kent, WA - ECPv5.16.3.1//NONSGML v1.0//EN
CALSCALE:GREGORIAN
METHOD:PUBLISH
X-WR-CALNAME:Feed Store, Pet Supplies, Vet Clinic &amp; Dog Grooming in Kent, WA
X-ORIGINAL-URL:https://legacy.reberranch.com
X-WR-CALDESC:Events for Feed Store, Pet Supplies, Vet Clinic &amp; Dog Grooming in Kent, WA
REFRESH-INTERVAL;VALUE=DURATION:PT1H
X-Robots-Tag:noindex
X-PUBLISHED-TTL:PT1H
BEGIN:VTIMEZONE
TZID:UTC
BEGIN:STANDARD
TZOFFSETFROM:+0000
TZOFFSETTO:+0000
TZNAME:UTC
DTSTART:20240101T000000
END:STANDARD
END:VTIMEZONE
BEGIN:VEVENT
DTSTART;TZID=UTC:20240217T100000
DTEND;TZID=UTC:20240217T113000
DTSTAMP:20260422T002046
CREATED:20240203T024007Z
LAST-MODIFIED:20240203T024321Z
UID:52361-1708164000-1708169400@legacy.reberranch.com
SUMMARY:Spring Bird Seminar with Featherhaven
DESCRIPTION:Join Reber Ranch in welcoming Lance Smith from Featherhaven Songbird Rehab for this free seminar on the Spring Backyard Habitat: The Basics for Songbird Needs. All attendees will receive a special coupon and be entered in a raffle! \nThis event will be held in our warehouse – while we will have heaters\, please dress warmly! Food & drink will be provided. \nPlease sign-up in advance!
URL:https://legacy.reberranch.com/event/spring-bird-seminar-with-featherhaven/
END:VEVENT
END:VCALENDAR