BEGIN:VCALENDAR
VERSION:2.0
PRODID:-//Feed Store, Pet Supplies, Vet Clinic &amp; Dog Grooming in Kent, WA - ECPv5.16.3.1//NONSGML v1.0//EN
CALSCALE:GREGORIAN
METHOD:PUBLISH
X-WR-CALNAME:Feed Store, Pet Supplies, Vet Clinic &amp; Dog Grooming in Kent, WA
X-ORIGINAL-URL:https://legacy.reberranch.com
X-WR-CALDESC:Events for Feed Store, Pet Supplies, Vet Clinic &amp; Dog Grooming in Kent, WA
REFRESH-INTERVAL;VALUE=DURATION:PT1H
X-Robots-Tag:noindex
X-PUBLISHED-TTL:PT1H
BEGIN:VTIMEZONE
TZID:UTC
BEGIN:STANDARD
TZOFFSETFROM:+0000
TZOFFSETTO:+0000
TZNAME:UTC
DTSTART:20230101T000000
END:STANDARD
END:VTIMEZONE
BEGIN:VEVENT
DTSTART;TZID=UTC:20230510T093000
DTEND;TZID=UTC:20230510T170000
DTSTAMP:20260422T223002
CREATED:20230510T235507Z
LAST-MODIFIED:20230510T235604Z
UID:52138-1683711000-1683738000@legacy.reberranch.com
SUMMARY:Auburn's Petpalooza @ Game Farm Park
DESCRIPTION:This free\, family-friendly event at Game Farm Park is going to be tons of fun for any and all pet lovers! There will be racing pigs\, adoptions\, pet contests\, reptiles\, tons of food\, a beer and wine garden\, and plenty more! \n\n\nWe’re sponsoring the annual Dog Trot\, and will be on-site all day! The Dog Trot is a family-oriented 3K or 5K course for participants with a dog! The route is flat\, easy\, and enjoyable for all ages. Learn more & get registered at http://ow.ly/pHrO50O6zeq
URL:https://legacy.reberranch.com/event/auburns-petpalooza-game-farm-park/
END:VEVENT
END:VCALENDAR