BEGIN:VCALENDAR
VERSION:2.0
PRODID:-//Feed Store, Pet Supplies, Vet Clinic &amp; Dog Grooming in Kent, WA - ECPv5.16.3.1//NONSGML v1.0//EN
CALSCALE:GREGORIAN
METHOD:PUBLISH
X-ORIGINAL-URL:https://legacy.reberranch.com
X-WR-CALDESC:Events for Feed Store, Pet Supplies, Vet Clinic &amp; Dog Grooming in Kent, WA
REFRESH-INTERVAL;VALUE=DURATION:PT1H
X-Robots-Tag:noindex
X-PUBLISHED-TTL:PT1H
BEGIN:VTIMEZONE
TZID:UTC
BEGIN:STANDARD
TZOFFSETFROM:+0000
TZOFFSETTO:+0000
TZNAME:UTC
DTSTART:20230101T000000
END:STANDARD
END:VTIMEZONE
BEGIN:VEVENT
DTSTART;VALUE=DATE:20230224
DTEND;VALUE=DATE:20230408
DTSTAMP:20260422T223100
CREATED:20230120T082516Z
LAST-MODIFIED:20230120T082516Z
UID:51971-1677196800-1680911999@legacy.reberranch.com
SUMMARY:Spring Chicks 2023
DESCRIPTION:Spring 2023 Chick List
URL:https://legacy.reberranch.com/event/spring-chicks-2023/
END:VEVENT
END:VCALENDAR