BEGIN:VCALENDAR
VERSION:2.0
PRODID:-//Feed Store, Pet Supplies, Vet Clinic &amp; Dog Grooming in Kent, WA - ECPv5.16.3.1//NONSGML v1.0//EN
CALSCALE:GREGORIAN
METHOD:PUBLISH
X-WR-CALNAME:Feed Store, Pet Supplies, Vet Clinic &amp; Dog Grooming in Kent, WA
X-ORIGINAL-URL:https://legacy.reberranch.com
X-WR-CALDESC:Events for Feed Store, Pet Supplies, Vet Clinic &amp; Dog Grooming in Kent, WA
REFRESH-INTERVAL;VALUE=DURATION:PT1H
X-Robots-Tag:noindex
X-PUBLISHED-TTL:PT1H
BEGIN:VTIMEZONE
TZID:UTC
BEGIN:STANDARD
TZOFFSETFROM:+0000
TZOFFSETTO:+0000
TZNAME:UTC
DTSTART:20230101T000000
END:STANDARD
END:VTIMEZONE
BEGIN:VEVENT
DTSTART;TZID=UTC:20230218T100000
DTEND;TZID=UTC:20230218T110000
DTSTAMP:20260422T223003
CREATED:20230205T021552Z
LAST-MODIFIED:20230205T022959Z
UID:51982-1676714400-1676718000@legacy.reberranch.com
SUMMARY:Free Spring Bird Seminar with Featherhaven Songbird Rehab
DESCRIPTION:Join Reber Ranch in welcoming Lance Smith from Featherhaven Songbird Rehab for this free seminar on the Spring Backyard Habitat: The Basics for Songbird Needs. All attendees will receive a special coupon and be entered in a raffle! \nThis event will be held in our warehouse – while we will have heaters\, please dress warmly! Food & drink will be provided. \nPlease sign up here
URL:https://legacy.reberranch.com/event/spring-bird-seminar-2023/
END:VEVENT
END:VCALENDAR