BEGIN:VCALENDAR
VERSION:2.0
PRODID:-//Feed Store, Pet Supplies, Vet Clinic &amp; Dog Grooming in Kent, WA - ECPv5.16.3.1//NONSGML v1.0//EN
CALSCALE:GREGORIAN
METHOD:PUBLISH
X-ORIGINAL-URL:https://legacy.reberranch.com
X-WR-CALDESC:Events for Feed Store, Pet Supplies, Vet Clinic &amp; Dog Grooming in Kent, WA
REFRESH-INTERVAL;VALUE=DURATION:PT1H
X-Robots-Tag:noindex
X-PUBLISHED-TTL:PT1H
BEGIN:VTIMEZONE
TZID:UTC
BEGIN:STANDARD
TZOFFSETFROM:+0000
TZOFFSETTO:+0000
TZNAME:UTC
DTSTART:20220101T000000
END:STANDARD
END:VTIMEZONE
BEGIN:VEVENT
DTSTART;TZID=UTC:20221127T100000
DTEND;TZID=UTC:20221127T140000
DTSTAMP:20260423T035632
CREATED:20221115T053237Z
LAST-MODIFIED:20221115T053237Z
UID:51877-1669543200-1669557600@legacy.reberranch.com
SUMMARY:Santa Photos with Love Life Family Photography
DESCRIPTION:Love Life Family Photography will be at Reber Ranch with Santa for 3 weekends of Christmas photos for family and pets – November 26th & 27th\, December 3rd & 4th\, and 10th & 11th\, from 10am-2pm. These are first-come\, first-serve with no scheduled appointments. Various digital and print packages are listed below. \nLearn more about Julie and view her work at her website:\nhttps://lovelifefamilyphotography.com/
URL:https://legacy.reberranch.com/event/santa-photos-with-love-life-family-photography-2/
END:VEVENT
END:VCALENDAR