BEGIN:VCALENDAR
VERSION:2.0
PRODID:-//Feed Store, Pet Supplies, Vet Clinic &amp; Dog Grooming in Kent, WA - ECPv5.16.3.1//NONSGML v1.0//EN
CALSCALE:GREGORIAN
METHOD:PUBLISH
X-ORIGINAL-URL:https://legacy.reberranch.com
X-WR-CALDESC:Events for Feed Store, Pet Supplies, Vet Clinic &amp; Dog Grooming in Kent, WA
REFRESH-INTERVAL;VALUE=DURATION:PT1H
X-Robots-Tag:noindex
X-PUBLISHED-TTL:PT1H
BEGIN:VTIMEZONE
TZID:UTC
BEGIN:STANDARD
TZOFFSETFROM:+0000
TZOFFSETTO:+0000
TZNAME:UTC
DTSTART:20220101T000000
END:STANDARD
END:VTIMEZONE
BEGIN:VEVENT
DTSTART;VALUE=DATE:20220304
DTEND;VALUE=DATE:20220424
DTSTAMP:20260423T164524
CREATED:20220218T071213Z
LAST-MODIFIED:20220422T010254Z
UID:51022-1646352000-1650758399@legacy.reberranch.com
SUMMARY:Spring Chicks
DESCRIPTION:Chick List 2022
URL:https://legacy.reberranch.com/event/spring-chicks/
END:VEVENT
BEGIN:VEVENT
DTSTART;TZID=UTC:20220312T100000
DTEND;TZID=UTC:20220312T120000
DTSTAMP:20260423T164524
CREATED:20220129T055459Z
LAST-MODIFIED:20220224T045436Z
UID:51006-1647079200-1647086400@legacy.reberranch.com
SUMMARY:Spring Chick Seminar
DESCRIPTION:CLICK TO SIGN UP \nCHICK LIST AVAILABLE HERE
URL:https://legacy.reberranch.com/event/spring-chick-seminar/
END:VEVENT
END:VCALENDAR