BEGIN:VCALENDAR
VERSION:2.0
PRODID:-//Feed Store, Pet Supplies, Vet Clinic &amp; Dog Grooming in Kent, WA - ECPv5.16.3.1//NONSGML v1.0//EN
CALSCALE:GREGORIAN
METHOD:PUBLISH
X-WR-CALNAME:Feed Store, Pet Supplies, Vet Clinic &amp; Dog Grooming in Kent, WA
X-ORIGINAL-URL:https://legacy.reberranch.com
X-WR-CALDESC:Events for Feed Store, Pet Supplies, Vet Clinic &amp; Dog Grooming in Kent, WA
REFRESH-INTERVAL;VALUE=DURATION:PT1H
X-Robots-Tag:noindex
X-PUBLISHED-TTL:PT1H
BEGIN:VTIMEZONE
TZID:UTC
BEGIN:STANDARD
TZOFFSETFROM:+0000
TZOFFSETTO:+0000
TZNAME:UTC
DTSTART:20210101T000000
END:STANDARD
END:VTIMEZONE
BEGIN:VEVENT
DTSTART;VALUE=DATE:20211125
DTEND;VALUE=DATE:20211130
DTSTAMP:20260424T010021
CREATED:20211125T074041Z
LAST-MODIFIED:20211125T074100Z
UID:50926-1637798400-1638230399@legacy.reberranch.com
SUMMARY:Black Friday/Small Business Saturday Weekend Sale
DESCRIPTION:Shop our Black Friday/Small Business Saturday online on Thursday\, and in-store and online Friday- Sunday. Visit shop.legacy.reberranch.com.
URL:https://legacy.reberranch.com/event/black-friday-small-business-saturday-weekend-sale/
END:VEVENT
END:VCALENDAR