BEGIN:VCALENDAR
VERSION:2.0
PRODID:-//Feed Store, Pet Supplies, Vet Clinic &amp; Dog Grooming in Kent, WA - ECPv5.16.3.1//NONSGML v1.0//EN
CALSCALE:GREGORIAN
METHOD:PUBLISH
X-WR-CALNAME:Feed Store, Pet Supplies, Vet Clinic &amp; Dog Grooming in Kent, WA
X-ORIGINAL-URL:https://legacy.reberranch.com
X-WR-CALDESC:Events for Feed Store, Pet Supplies, Vet Clinic &amp; Dog Grooming in Kent, WA
REFRESH-INTERVAL;VALUE=DURATION:PT1H
X-Robots-Tag:noindex
X-PUBLISHED-TTL:PT1H
BEGIN:VTIMEZONE
TZID:UTC
BEGIN:STANDARD
TZOFFSETFROM:+0000
TZOFFSETTO:+0000
TZNAME:UTC
DTSTART:20210101T000000
END:STANDARD
END:VTIMEZONE
BEGIN:VEVENT
DTSTART;TZID=UTC:20210911T100000
DTEND;TZID=UTC:20210911T113000
DTSTAMP:20260424T050720
CREATED:20210901T061922Z
LAST-MODIFIED:20210901T074027Z
UID:50748-1631354400-1631359800@legacy.reberranch.com
SUMMARY:Chick Seminar
DESCRIPTION:Join us September 11th at 10 AM for our Fall Chick Seminar. Everyone who pre-registers online will be entered to win a $50 gift card! (Must be present at seminar to collect prize) Our chick seminar will be hosted by Purina’s Rick Boyer\, learn about starting your flock and raising chicks in the fall! The seminar will be socially distanced and hosted outside in our barn. Please dress accordingly! There will also be a special coupon and raffle! Sign up here: \n  \nHere is the chick list for Fall 2021
URL:https://legacy.reberranch.com/event/chick-seminar/
END:VEVENT
END:VCALENDAR