BEGIN:VCALENDAR
VERSION:2.0
PRODID:-//Feed Store, Pet Supplies, Vet Clinic &amp; Dog Grooming in Kent, WA - ECPv5.16.3.1//NONSGML v1.0//EN
CALSCALE:GREGORIAN
METHOD:PUBLISH
X-ORIGINAL-URL:https://legacy.reberranch.com
X-WR-CALDESC:Events for Feed Store, Pet Supplies, Vet Clinic &amp; Dog Grooming in Kent, WA
REFRESH-INTERVAL;VALUE=DURATION:PT1H
X-Robots-Tag:noindex
X-PUBLISHED-TTL:PT1H
BEGIN:VTIMEZONE
TZID:UTC
BEGIN:STANDARD
TZOFFSETFROM:+0000
TZOFFSETTO:+0000
TZNAME:UTC
DTSTART:20210101T000000
END:STANDARD
END:VTIMEZONE
BEGIN:VEVENT
DTSTART;TZID=UTC:20210828T100000
DTEND;TZID=UTC:20210829T180000
DTSTAMP:20260424T070558
CREATED:20210727T055954Z
LAST-MODIFIED:20210727T062003Z
UID:50677-1630144800-1630260000@legacy.reberranch.com
SUMMARY:Summerfest / Barks n' Brews
DESCRIPTION:  \nPlease welcome back Reber Ranch events with Summerfest! Join us August 28th & 29th\, from 10 am – 6pm for two fun-filled days! This free event features Pet vendors with games for kids and dogs\, mobile store\, a huge store-wide sale\, music\, food\, cash cube\, caricature artist (sat\, 10-4)\, raffles\, car show(details to come)\, Valley Retired Police Dog Show (more details to come).\nThis event is in conjunction with Left Behind K9’s Barks n’ Brews at Reber Ranch\, Saturday\, August 28th 2-8pm and Sunday\, August 29th 12-6pm! This is a separate ticketed event\, 21+ that is a dog-friendly beer garden atmosphere with craft beer tastings\, music\, food for purchase and games! Each ticket comes with 7 craft beer tastings tokens and a commemorative glass. Plus\, on Saturday night from 4-8\, Altered 90’s will be performing live music in the Bark n’ Brews Beer Garden! Tickets are on-sale now for this event if you purchase before July 31st with the code EARLYBIRD\, tickets are only $25 and you get a free $5 food voucher! Tickets are available here:Â https://barksnbrewslbk9.square.site/\nWe’re so excited for a fun filled weekend and hope you\, your family and your pets will join us!
URL:https://legacy.reberranch.com/event/summerfest-barks-n-brews/
END:VEVENT
END:VCALENDAR